View In:
ArcGIS JavaScript
ArcGIS Online Map Viewer
ArcGIS Earth
ArcMap
View Footprint In:
ArcGIS Online Map Viewer
Service Description: Scanned aerial photo of Pineview reservoir, Weber County, Utah circa 1947.
Name: Public/Pineview_Reservoir_1946
Description: Scanned aerial photo of Pineview reservoir, Weber County, Utah circa 1947.
Single Fused Map Cache: false
Extent:
XMin: 1549765.1389623878
YMin: 3613024.6360215037
XMax: 1569473.5858292677
YMax: 3632909.8159970925
Spatial Reference: 102742
(3560)
Initial Extent:
XMin: 1549765.1389623878
YMin: 3613024.6360215037
XMax: 1569473.5858292677
YMax: 3632909.8159970925
Spatial Reference: 102742
(3560)
Full Extent:
XMin: 1549765.1389623878
YMin: 3613024.6360215037
XMax: 1569473.5858292677
YMax: 3632909.8159970925
Spatial Reference: 102742
(3560)
Pixel Size X: 2.759127378815615
Pixel Size Y: 2.770681339778293
Band Count: 4
Pixel Type: U8
RasterFunction Infos: {"rasterFunctionInfos": [{
"name": "None",
"description": "",
"help": ""
}]}
Mensuration Capabilities: Basic
Has Histograms: true
Has Colormap: false
Has Multi Dimensions : false
Rendering Rule:
Min Scale: 0
Max Scale: 0
Copyright Text:
Service Data Type: esriImageServiceDataTypeGeneric
Min Values: 28, 28, 28, 255
Max Values: 255, 255, 255, 255
Mean Values: 116.87197342857, 116.87197342857, 116.87197342857, 255
Standard Deviation Values: 35.751016422966, 35.751016422966, 35.751016422966, 0
Object ID Field:
Fields:
None
Default Mosaic Method: Center
Allowed Mosaic Methods:
SortField:
SortValue: null
Mosaic Operator: First
Default Compression Quality: 75
Default Resampling Method: Bilinear
Max Record Count: null
Max Image Height: 4100
Max Image Width: 15000
Max Download Image Count: null
Max Mosaic Image Count: null
Allow Raster Function: true
Allow Compute TiePoints: false
Supports Statistics: false
Supports Advanced Queries: false
Use StandardizedQueries: true
Raster Type Infos:
Name: Raster Dataset
Description: Supports all ArcGIS Raster Datasets
Help:
Has Raster Attribute Table: false
Edit Fields Info: null
Ownership Based AccessControl For Rasters: null
Child Resources:
Info
Histograms
Key Properties
Legend
MultiDimensionalInfo
rasterFunctionInfos
Supported Operations:
Export Image
Identify
Measure
Compute Histograms
Compute Statistics Histograms
Get Samples
Compute Class Statistics
Query Boundary