{ "currentVersion": 10.61, "serviceDescription": "
Scanned aerial photo of Pineview reservoir, Weber County, Utah circa 1947.<\/span><\/p><\/div><\/div><\/div>",
"name": "Public/Pineview_Reservoir_1946",
"description": " Scanned aerial photo of Pineview reservoir, Weber County, Utah circa 1947.<\/span><\/p><\/div><\/div><\/div>",
"extent": {
"xmin": 1549765.1389623878,
"ymin": 3613024.6360215037,
"xmax": 1569473.5858292677,
"ymax": 3632909.8159970925,
"spatialReference": {
"wkid": 102742,
"latestWkid": 3560
}
},
"initialExtent": {
"xmin": 1549765.1389623878,
"ymin": 3613024.6360215037,
"xmax": 1569473.5858292677,
"ymax": 3632909.8159970925,
"spatialReference": {
"wkid": 102742,
"latestWkid": 3560
}
},
"fullExtent": {
"xmin": 1549765.1389623878,
"ymin": 3613024.6360215037,
"xmax": 1569473.5858292677,
"ymax": 3632909.8159970925,
"spatialReference": {
"wkid": 102742,
"latestWkid": 3560
}
},
"pixelSizeX": 2.759127378815615,
"pixelSizeY": 2.770681339778293,
"bandCount": 4,
"pixelType": "U8",
"minPixelSize": 0,
"maxPixelSize": 0,
"copyrightText": "",
"serviceDataType": "esriImageServiceDataTypeGeneric",
"minValues": [
28,
28,
28,
255
],
"maxValues": [
255,
255,
255,
255
],
"meanValues": [
116.87197342857,
116.87197342857,
116.87197342857,
255
],
"stdvValues": [
35.751016422966,
35.751016422966,
35.751016422966,
0
],
"objectIdField": "",
"fields": [],
"capabilities": "Mensuration,Image,Metadata",
"defaultMosaicMethod": "Center",
"allowedMosaicMethods": "",
"sortField": "",
"sortValue": null,
"mosaicOperator": "First",
"defaultCompressionQuality": 75,
"defaultResamplingMethod": "Bilinear",
"maxImageHeight": 4100,
"maxImageWidth": 15000,
"allowRasterFunction": true,
"rasterFunctionInfos": [
{
"name": "None",
"description": "",
"help": ""
}
],
"rasterTypeInfos": [
{
"name": "Raster Dataset",
"description": "Supports all ArcGIS Raster Datasets",
"help": ""
}
],
"mensurationCapabilities": "Basic",
"hasHistograms": true,
"hasColormap": false,
"hasRasterAttributeTable": false,
"minScale": 0,
"maxScale": 0,
"exportTilesAllowed": false,
"hasMultidimensions": false,
"supportsStatistics": false,
"supportsAdvancedQueries": false,
"editFieldsInfo": null,
"ownershipBasedAccessControlForRasters": null,
"allowComputeTiePoints": false,
"useStandardizedQueries": true,
"advancedQueryCapabilities": {
"useStandardizedQueries": true,
"supportsStatistics": false,
"supportsOrderBy": false,
"supportsDistinct": false,
"supportsPagination": false
},
"spatialReference": {
"wkid": 102742,
"latestWkid": 3560
}
}