View In:
ArcGIS JavaScript
ArcGIS Online Map Viewer
ArcGIS Earth
ArcMap
View Footprint In:
ArcGIS Online Map Viewer
Service Description: Ogden Canyon Aerial Image 1983
Name: Public/OgdenCanyon_1983
Description: Ogden Canyon Aerial Image 1983
Single Fused Map Cache: false
Extent:
XMin: 1517657.5945262106
YMin: 3604675.367690758
XMax: 1554104.3590058808
YMax: 3620480.492556052
Spatial Reference: 102742
(3560)
Initial Extent:
XMin: 1517657.5945262106
YMin: 3604675.367690758
XMax: 1554104.3590058808
YMax: 3620480.492556052
Spatial Reference: 102742
(3560)
Full Extent:
XMin: 1517657.5945262106
YMin: 3604675.367690758
XMax: 1554104.3590058808
YMax: 3620480.492556052
Spatial Reference: 102742
(3560)
Pixel Size X: 0.68476776852363
Pixel Size Y: 0.6847677685236327
Band Count: 4
Pixel Type: U8
RasterFunction Infos: {"rasterFunctionInfos": [{
"name": "None",
"description": "",
"help": ""
}]}
Mensuration Capabilities: Basic
Has Histograms: true
Has Colormap: false
Has Multi Dimensions : false
Rendering Rule:
Min Scale: 0
Max Scale: 0
Copyright Text:
Service Data Type: esriImageServiceDataTypeGeneric
Min Values: 1, 1, 1, 255
Max Values: 255, 255, 255, 255
Mean Values: 151.60153580828, 137.90677532219, 122.40020609413, 255
Standard Deviation Values: 54.551862642519, 60.947751212565, 59.20131367497, 0
Object ID Field:
Fields:
None
Default Mosaic Method: Center
Allowed Mosaic Methods:
SortField:
SortValue: null
Mosaic Operator: First
Default Compression Quality: 75
Default Resampling Method: Bicubic
Max Record Count: null
Max Image Height: 4100
Max Image Width: 15000
Max Download Image Count: null
Max Mosaic Image Count: null
Allow Raster Function: true
Allow Compute TiePoints: false
Supports Statistics: false
Supports Advanced Queries: false
Use StandardizedQueries: true
Raster Type Infos:
Name: Raster Dataset
Description: Supports all ArcGIS Raster Datasets
Help:
Has Raster Attribute Table: false
Edit Fields Info: null
Ownership Based AccessControl For Rasters: null
Child Resources:
Info
Histograms
Key Properties
Legend
MultiDimensionalInfo
rasterFunctionInfos
Supported Operations:
Export Image
Identify
Measure
Compute Histograms
Compute Statistics Histograms
Get Samples
Compute Class Statistics
Query Boundary