View In:
ArcGIS JavaScript
ArcGIS Online Map Viewer
ArcGIS Earth
ArcMap
View Footprint In:
ArcGIS Online Map Viewer
Service Description: UPPER LEFT X=1492400.00
UPPER LEFT Y=3628500.00
LOWER RIGHT X=1558000.00
LOWER RIGHT Y=3579200.00
WEST LONGITUDE=112° 02' 18.9279" W
NORTH LATITUDE=41° 17' 13.8807" N
EAST LONGITUDE=111° 47' 57.3933" W
SOUTH LATITUDE=41° 09' 03.6457" N
PIXEL SIZE X=0.25 feet / pixel
PIXEL SIZE Y=0.25 feet / pixel
ENCLOSED AREA=300.46 sq km
VIEW PIXEL SIZE=262400 x 197200
VIEW ORIENTATION=0
VIEW PROJECTION WKT=PROJCS["NAD83_2011_Utah_North_ftUS",GEOGCS["GCS_NAD_1983_2011",DATUM["D_NAD83_NATIONAL_SPATIAL_REFERENCE_SYSTEM_2011",SPHEROID["GRS_1980",6378137,298.257222101]],PRIMEM["Greenwich",0],UNIT["Degree",0.017453292519943295]],PROJECTION["Lambert_Conformal_Conic"],PARAMETER["scale_factor",1],PARAMETER["standard_parallel_1",40.71666666666667],PARAMETER["standard_parallel_2",41.78333333333333],PARAMETER["central_meridian",-111.5],PARAMETER["latitude_of_origin",40.33333333333334],PARAMETER["false_easting",1640416.666666667],PARAMETER["false_northing",3280833.333333333],UNIT["Foot_US",0.30480060960121924]]
VIEW PROJECTION EPSG=6626
Name: Public/Color_2025_3inch
Description: UPPER LEFT X=1492400.00
UPPER LEFT Y=3628500.00
LOWER RIGHT X=1558000.00
LOWER RIGHT Y=3579200.00
WEST LONGITUDE=112° 02' 18.9279" W
NORTH LATITUDE=41° 17' 13.8807" N
EAST LONGITUDE=111° 47' 57.3933" W
SOUTH LATITUDE=41° 09' 03.6457" N
PIXEL SIZE X=0.25 feet / pixel
PIXEL SIZE Y=0.25 feet / pixel
ENCLOSED AREA=300.46 sq km
VIEW PIXEL SIZE=262400 x 197200
VIEW ORIENTATION=0
VIEW PROJECTION WKT=PROJCS["NAD83_2011_Utah_North_ftUS",GEOGCS["GCS_NAD_1983_2011",DATUM["D_NAD83_NATIONAL_SPATIAL_REFERENCE_SYSTEM_2011",SPHEROID["GRS_1980",6378137,298.257222101]],PRIMEM["Greenwich",0],UNIT["Degree",0.017453292519943295]],PROJECTION["Lambert_Conformal_Conic"],PARAMETER["scale_factor",1],PARAMETER["standard_parallel_1",40.71666666666667],PARAMETER["standard_parallel_2",41.78333333333333],PARAMETER["central_meridian",-111.5],PARAMETER["latitude_of_origin",40.33333333333334],PARAMETER["false_easting",1640416.666666667],PARAMETER["false_northing",3280833.333333333],UNIT["Foot_US",0.30480060960121924]]
VIEW PROJECTION EPSG=6626
Single Fused Map Cache: false
Extent:
XMin: 1492399.9999999984
YMin: 3579200.0000000005
XMax: 1557999.9999999984
YMax: 3628500.0000000005
Spatial Reference: 102742
(3560)
Initial Extent:
XMin: 1492399.9999999984
YMin: 3579200.0000000005
XMax: 1557999.9999999984
YMax: 3628500.0000000005
Spatial Reference: 102742
(3560)
Full Extent:
XMin: 1492399.9999999984
YMin: 3579200.0000000005
XMax: 1557999.9999999984
YMax: 3628500.0000000005
Spatial Reference: 102742
(3560)
Pixel Size X: 0.25
Pixel Size Y: 0.25
Band Count: 5
Pixel Type: U8
RasterFunction Infos: {"rasterFunctionInfos": [{
"name": "None",
"description": "",
"help": ""
}]}
Mensuration Capabilities:
Has Histograms: true
Has Colormap: false
Has Multi Dimensions : false
Rendering Rule:
Min Scale: 0
Max Scale: 0
Copyright Text: Aero-Graphicshttps://www.aero-graphics.com/40 W Oakland AvenueSalt Lake City, UT84115(801) 487-3273
Service Data Type: esriImageServiceDataTypeGeneric
Min Values: 0, 0, 0, 0, 0
Max Values: 255, 255, 255, 255, 255
Mean Values: 109.55307049645897, 109.16741298648877, 103.63098234531277, 154.70892145861092, 254.99976792011782
Standard Deviation Values: 51.468390716406056, 49.07660996863721, 47.758396951345716, 45.16621938932969, 0.24327004767501065
Object ID Field: OBJECTID
Fields:
-
OBJECTID
(
type: esriFieldTypeOID
, alias: OBJECTID
)
-
Shape
(
type: esriFieldTypeGeometry
, alias: Shape
)
-
Name
(
type: esriFieldTypeString
, alias: Name
, length: 200
)
-
MinPS
(
type: esriFieldTypeDouble
, alias: MinPS
)
-
MaxPS
(
type: esriFieldTypeDouble
, alias: MaxPS
)
-
LowPS
(
type: esriFieldTypeDouble
, alias: LowPS
)
-
HighPS
(
type: esriFieldTypeDouble
, alias: HighPS
)
-
Category
(
type: esriFieldTypeInteger
, alias: Category
, Coded Values:
[0: Unknown]
, [1: Primary]
, [2: Overview]
, ...6 more...
)
-
Tag
(
type: esriFieldTypeString
, alias: Tag
, length: 100
)
-
GroupName
(
type: esriFieldTypeString
, alias: GroupName
, length: 100
)
-
ProductName
(
type: esriFieldTypeString
, alias: ProductName
, length: 100
)
-
CenterX
(
type: esriFieldTypeDouble
, alias: CenterX
)
-
CenterY
(
type: esriFieldTypeDouble
, alias: CenterY
)
-
ZOrder
(
type: esriFieldTypeInteger
, alias: ZOrder
)
-
Shape_Length
(
type: esriFieldTypeDouble
, alias: Shape_Length
)
-
Shape_Area
(
type: esriFieldTypeDouble
, alias: Shape_Area
)
Default Mosaic Method: Northwest
Allowed Mosaic Methods: NorthWest,Seamline,Center,LockRaster,ByAttribute,Nadir,Viewpoint,None
SortField:
SortValue: null
Mosaic Operator: First
Default Compression Quality: 75
Default Resampling Method: Bicubic
Max Record Count: 1000
Max Image Height: 4100
Max Image Width: 15000
Max Download Image Count: 20
Max Mosaic Image Count: 20
Allow Raster Function: true
Allow Compute TiePoints: false
Supports Statistics: true
Supports Advanced Queries: true
Use StandardizedQueries: true
Raster Type Infos:
Name: Raster Dataset
Description: Supports all ArcGIS Raster Datasets
Help:
Has Raster Attribute Table: false
Edit Fields Info: null
Ownership Based AccessControl For Rasters: null
Child Resources:
Info
Histograms
Key Properties
Legend
MultiDimensionalInfo
rasterFunctionInfos
Supported Operations:
Export Image
Query
Identify
Measure
Compute Histograms
Compute Statistics Histograms
Get Samples
Compute Class Statistics
Query Boundary