View In:
ArcGIS JavaScript
ArcGIS Online Map Viewer
ArcGIS Earth
ArcMap
View Footprint In:
ArcGIS Online Map Viewer
Service Description: Aerial taken in spring 2020.
Name: Public/Color_2020_3inch
Description: Aerial taken in spring 2020.
Single Fused Map Cache: false
Extent:
XMin: 1492399.9539188195
YMin: 3579199.958303702
XMax: 1558000.0077578195
YMax: 3628500.055241387
Spatial Reference: 103169
(6626)
Initial Extent:
XMin: 1492399.9539188195
YMin: 3579199.958303702
XMax: 1558000.0077578195
YMax: 3628500.055241387
Spatial Reference: 103169
(6626)
Full Extent:
XMin: 1492399.9539188195
YMin: 3579199.958303702
XMax: 1558000.0077578195
YMax: 3628500.055241387
Spatial Reference: 103169
(6626)
Pixel Size X: 0.24999925243806215
Pixel Size Y: 0.24999922382586706
Band Count: 5
Pixel Type: U8
RasterFunction Infos: {"rasterFunctionInfos": [{
"name": "None",
"description": "",
"help": ""
}]}
Mensuration Capabilities: Basic
Has Histograms: true
Has Colormap: false
Has Multi Dimensions : false
Rendering Rule:
Min Scale: 0
Max Scale: 0
Copyright Text:
Service Data Type: esriImageServiceDataTypeGeneric
Min Values: 1, 1, 1, 1, 255
Max Values: 255, 255, 255, 255, 255
Mean Values: 99.101666476714, 98.292443891907, 78.218376774727, 116.32776638738, 255
Standard Deviation Values: 43.257518155923, 41.138762107964, 39.263543885062, 39.150241944059, 0
Object ID Field:
Fields:
None
Default Mosaic Method: Northwest
Allowed Mosaic Methods: NorthWest,Center,LockRaster,ByAttribute,Nadir,Viewpoint,Seamline,None
SortField:
SortValue: null
Mosaic Operator: First
Default Compression Quality: 75
Default Resampling Method: Bicubic
Max Record Count: 1000
Max Image Height: 4100
Max Image Width: 15000
Max Download Image Count: 20
Max Mosaic Image Count: 20
Allow Raster Function: true
Allow Compute TiePoints: false
Supports Statistics: false
Supports Advanced Queries: false
Use StandardizedQueries: true
Raster Type Infos:
Name: Raster Dataset
Description: Supports all ArcGIS Raster Datasets
Help:
Has Raster Attribute Table: false
Edit Fields Info: null
Ownership Based AccessControl For Rasters: null
Child Resources:
Info
Histograms
Key Properties
Legend
MultiDimensionalInfo
rasterFunctionInfos
Supported Operations:
Export Image
Query
Identify
Measure
Compute Histograms
Compute Statistics Histograms
Get Samples
Compute Class Statistics
Query Boundary