View In:
ArcGIS JavaScript
ArcGIS Online Map Viewer
ArcGIS Earth
ArcMap
View Footprint In:
ArcGIS Online Map Viewer
Service Description: 2015 Aerial Imagery of Ogden Canyon near Ogden Ut
Name: Public/Color_2015_OgdenCanyon_3Inch
Description: 2015 Aerial Imagery of Ogden Canyon near Ogden Ut
Single Fused Map Cache: false
Extent:
XMin: 1522068.4
YMin: 3609462.8000000003
XMax: 1546921.2
YMax: 3617416.8000000003
Spatial Reference: 102742
(3560)
Initial Extent:
XMin: 1522068.4
YMin: 3609462.8000000003
XMax: 1546921.2
YMax: 3617416.8000000003
Spatial Reference: 102742
(3560)
Full Extent:
XMin: 1522068.4
YMin: 3609462.8000000003
XMax: 1546921.2
YMax: 3617416.8000000003
Spatial Reference: 102742
(3560)
Pixel Size X: 0.20000000000000037
Pixel Size Y: 0.2
Band Count: 3
Pixel Type: U8
RasterFunction Infos: {"rasterFunctionInfos": [{
"name": "None",
"description": "",
"help": ""
}]}
Mensuration Capabilities: Basic
Has Histograms: true
Has Colormap: false
Has Multi Dimensions : false
Rendering Rule:
Min Scale: 0
Max Scale: 0
Copyright Text: Ogden City, Aerographics inc.
Service Data Type: esriImageServiceDataTypeRGB
Min Values: 0, 0, 0
Max Values: 255, 255, 255
Mean Values: 233.39785624212, 232.46385035729, 231.18726355612
Standard Deviation Values: 54.847773321836, 56.253885545612, 58.512796925009
Object ID Field:
Fields:
None
Default Mosaic Method: Center
Allowed Mosaic Methods:
SortField:
SortValue: null
Mosaic Operator: First
Default Compression Quality: 75
Default Resampling Method: Bicubic
Max Record Count: null
Max Image Height: 4100
Max Image Width: 15000
Max Download Image Count: null
Max Mosaic Image Count: null
Allow Raster Function: true
Allow Compute TiePoints: false
Supports Statistics: false
Supports Advanced Queries: false
Use StandardizedQueries: true
Raster Type Infos:
Name: Raster Dataset
Description: Supports all ArcGIS Raster Datasets
Help:
Has Raster Attribute Table: false
Edit Fields Info: null
Ownership Based AccessControl For Rasters: null
Child Resources:
Info
Histograms
Key Properties
Legend
MultiDimensionalInfo
rasterFunctionInfos
Supported Operations:
Export Image
Identify
Measure
Compute Histograms
Compute Statistics Histograms
Get Samples
Compute Class Statistics
Query Boundary